BEGIN:VCALENDAR
VERSION:2.0
PRODID:-//Southern Charm Carriages LLC - ECPv6.15.20//NONSGML v1.0//EN
CALSCALE:GREGORIAN
METHOD:PUBLISH
X-WR-CALNAME:Southern Charm Carriages LLC
X-ORIGINAL-URL:https://wp.southerncharmcarriages.com
X-WR-CALDESC:Events for Southern Charm Carriages LLC
REFRESH-INTERVAL;VALUE=DURATION:PT1H
X-Robots-Tag:noindex
X-PUBLISHED-TTL:PT1H
BEGIN:VTIMEZONE
TZID:America/New_York
BEGIN:DAYLIGHT
TZOFFSETFROM:-0500
TZOFFSETTO:-0400
TZNAME:EDT
DTSTART:20230312T070000
END:DAYLIGHT
BEGIN:STANDARD
TZOFFSETFROM:-0400
TZOFFSETTO:-0500
TZNAME:EST
DTSTART:20231105T060000
END:STANDARD
BEGIN:DAYLIGHT
TZOFFSETFROM:-0500
TZOFFSETTO:-0400
TZNAME:EDT
DTSTART:20240310T070000
END:DAYLIGHT
BEGIN:STANDARD
TZOFFSETFROM:-0400
TZOFFSETTO:-0500
TZNAME:EST
DTSTART:20241103T060000
END:STANDARD
BEGIN:DAYLIGHT
TZOFFSETFROM:-0500
TZOFFSETTO:-0400
TZNAME:EDT
DTSTART:20250309T070000
END:DAYLIGHT
BEGIN:STANDARD
TZOFFSETFROM:-0400
TZOFFSETTO:-0500
TZNAME:EST
DTSTART:20251102T060000
END:STANDARD
END:VTIMEZONE
BEGIN:VEVENT
DTSTART;TZID=America/New_York:20240210T170000
DTEND;TZID=America/New_York:20240210T213000
DTSTAMP:20260423T130400
CREATED:20240108T234036Z
LAST-MODIFIED:20240201T223829Z
UID:223-1707584400-1707600600@wp.southerncharmcarriages.com
SUMMARY:Valentine's at Fenton
DESCRIPTION:Come join us for a carriage ride down Main St at Fenton with your special someone for Valentine’s!\n\nPlease note that ticket purchase is for a carriage\, not per person.  Each carriage can accommodate up to 4 adults.\n\nBUY TICKETS NOW
URL:https://wp.southerncharmcarriages.com/event/valentines-at-fenton/
LOCATION:Fenton\, 870 Lower Garden Ln\, Cary\, NC\, 27511
CATEGORIES:Paid Events
END:VEVENT
END:VCALENDAR