BEGIN:VCALENDAR
VERSION:2.0
PRODID:-//Southern Charm Carriages LLC - ECPv6.15.20//NONSGML v1.0//EN
CALSCALE:GREGORIAN
METHOD:PUBLISH
X-WR-CALNAME:Southern Charm Carriages LLC
X-ORIGINAL-URL:https://wp.southerncharmcarriages.com
X-WR-CALDESC:Events for Southern Charm Carriages LLC
REFRESH-INTERVAL;VALUE=DURATION:PT1H
X-Robots-Tag:noindex
X-PUBLISHED-TTL:PT1H
BEGIN:VTIMEZONE
TZID:America/New_York
BEGIN:DAYLIGHT
TZOFFSETFROM:-0500
TZOFFSETTO:-0400
TZNAME:EDT
DTSTART:20230312T070000
END:DAYLIGHT
BEGIN:STANDARD
TZOFFSETFROM:-0400
TZOFFSETTO:-0500
TZNAME:EST
DTSTART:20231105T060000
END:STANDARD
BEGIN:DAYLIGHT
TZOFFSETFROM:-0500
TZOFFSETTO:-0400
TZNAME:EDT
DTSTART:20240310T070000
END:DAYLIGHT
BEGIN:STANDARD
TZOFFSETFROM:-0400
TZOFFSETTO:-0500
TZNAME:EST
DTSTART:20241103T060000
END:STANDARD
BEGIN:DAYLIGHT
TZOFFSETFROM:-0500
TZOFFSETTO:-0400
TZNAME:EDT
DTSTART:20250309T070000
END:DAYLIGHT
BEGIN:STANDARD
TZOFFSETFROM:-0400
TZOFFSETTO:-0500
TZNAME:EST
DTSTART:20251102T060000
END:STANDARD
END:VTIMEZONE
BEGIN:VEVENT
DTSTART;TZID=America/New_York:20240324T100000
DTEND;TZID=America/New_York:20240324T180000
DTSTAMP:20260423T114600
CREATED:20240313T200304Z
LAST-MODIFIED:20240313T200304Z
UID:1563-1711274400-1711303200@wp.southerncharmcarriages.com
SUMMARY:Wilson Renaissance Faire
DESCRIPTION:
URL:https://wp.southerncharmcarriages.com/event/wilson-renaissance-faire-2/
LOCATION:Wilson Arts\, 210 Nash St E\, Wilson\, 27893\, United States
CATEGORIES:Paid Events
END:VEVENT
END:VCALENDAR